View In:
ArcGIS JavaScript
ArcGIS Online Map Viewer
ArcGIS Earth
ArcMap
View Footprint In:
ArcGIS Online Map Viewer
Service Description: An orthoimage is remotely sensed image data in which
displacement of features in the image caused by terrain
relief and sensor orientation have been mathematically
removed. Orthoimagery combines the image
characteristics of a photograph with the geometric
qualities of a map. For this dataset, the orthoimages were
produced at a 0.5 foot pixel resolution for Cabarrus
County, North Carolina, and was flown between 25 Feb 05
and 2 Mar 05.
Name: Imagery/Aerial2005
Description: An orthoimage is remotely sensed image data in which
displacement of features in the image caused by terrain
relief and sensor orientation have been mathematically
removed. Orthoimagery combines the image
characteristics of a photograph with the geometric
qualities of a map. For this dataset, the orthoimages were
produced at a 0.5 foot pixel resolution for Cabarrus
County, North Carolina, and was flown between 25 Feb 05
and 2 Mar 05.
Single Fused Map Cache: false
Extent:
XMin: 1464999.75
YMin: 520000.25
XMax: 1619999.75
YMax: 650000.25
Spatial Reference: 102719
(2264)
Initial Extent:
XMin: 1464999.75
YMin: 520000.25
XMax: 1619999.75
YMax: 650000.25
Spatial Reference: 102719
(2264)
Full Extent:
XMin: 1464999.75
YMin: 520000.25
XMax: 1619999.75
YMax: 650000.25
Spatial Reference: 102719
(2264)
Pixel Size X: 0.5
Pixel Size Y: 0.5
Band Count: 3
Pixel Type: U8
RasterFunction Infos: {"rasterFunctionInfos": [{
"name": "None",
"description": "",
"help": ""
}]}
Mensuration Capabilities: Basic
Has Histograms: true
Has Colormap: false
Has Multi Dimensions : false
Rendering Rule:
Min Scale: 0
Max Scale: 0
Copyright Text:
Service Data Type: esriImageServiceDataTypeRGB
Min Values: 0, 0, 0
Max Values: 255, 255, 255
Mean Values: 119.28322407905432, 112.58728450981891, 93.24629442734407
Standard Deviation Values: 49.440683387580016, 44.18967192878258, 41.84020143848352
Object ID Field:
Fields:
None
Default Mosaic Method: Center
Allowed Mosaic Methods:
SortField:
SortValue: null
Mosaic Operator: First
Default Compression Quality: 75
Default Resampling Method: Bilinear
Max Record Count: null
Max Image Height: 4100
Max Image Width: 15000
Max Download Image Count: null
Max Mosaic Image Count: null
Allow Raster Function: true
Allow Copy: true
Allow Analysis: true
Allow Compute TiePoints: false
Supports Statistics: false
Supports Advanced Queries: false
Use StandardizedQueries: true
Raster Type Infos:
Name: Raster Dataset
Description: Supports all ArcGIS Raster Datasets
Help:
Has Raster Attribute Table: false
Edit Fields Info: null
Ownership Based AccessControl For Rasters: null
Child Resources:
Info
Histograms
Statistics
Key Properties
Legend
Raster Function Infos
Supported Operations:
Export Image
Identify
Measure
Compute Histograms
Compute Statistics Histograms
Get Samples
Compute Class Statistics
Query Boundary
Compute Pixel Location
Compute Angles
Validate
Project