{
 "currentVersion": 10.91,
 "serviceDescription": "An orthoimage is remotely sensed image data in which\ndisplacement of features in the image caused by terrain\nrelief and sensor orientation have been mathematically\nremoved. Orthoimagery combines the image\ncharacteristics of a photograph with the geometric\nqualities of a map. For this dataset, the orthoimages were\nproduced at a 0.5 foot pixel resolution for Cabarrus\nCounty, North Carolina, and was flown between 25 Feb 05\nand 2 Mar 05.",
 "name": "Imagery/Aerial2005",
 "description": "An orthoimage is remotely sensed image data in which\ndisplacement of features in the image caused by terrain\nrelief and sensor orientation have been mathematically\nremoved. Orthoimagery combines the image\ncharacteristics of a photograph with the geometric\nqualities of a map. For this dataset, the orthoimages were\nproduced at a 0.5 foot pixel resolution for Cabarrus\nCounty, North Carolina, and was flown between 25 Feb 05\nand 2 Mar 05.",
 "extent": {
  "xmin": 1464999.75,
  "ymin": 520000.25,
  "xmax": 1619999.75,
  "ymax": 650000.25,
  "spatialReference": {
   "wkid": 102719,
   "latestWkid": 2264
  }
 },
 "initialExtent": {
  "xmin": 1464999.75,
  "ymin": 520000.25,
  "xmax": 1619999.75,
  "ymax": 650000.25,
  "spatialReference": {
   "wkid": 102719,
   "latestWkid": 2264
  }
 },
 "fullExtent": {
  "xmin": 1464999.75,
  "ymin": 520000.25,
  "xmax": 1619999.75,
  "ymax": 650000.25,
  "spatialReference": {
   "wkid": 102719,
   "latestWkid": 2264
  }
 },
 "hasMultidimensions": false,
 "pixelSizeX": 0.5,
 "pixelSizeY": 0.5,
 "datasetFormat": "SDR",
 "uncompressedSize": 241800000000,
 "blockWidth": 128,
 "blockHeight": 128,
 "compressionType": "LZ77",
 "bandNames": [
  "Band_1",
  "Band_2",
  "Band_3"
 ],
 "allowCopy": true,
 "allowAnalysis": true,
 "bandCount": 3,
 "pixelType": "U8",
 "minPixelSize": 0,
 "maxPixelSize": 0,
 "copyrightText": "",
 "serviceDataType": "esriImageServiceDataTypeRGB",
 "serviceSourceType": "esriImageServiceSourceTypeDataset",
 "minValues": [
  0,
  0,
  0
 ],
 "maxValues": [
  255,
  255,
  255
 ],
 "meanValues": [
  119.28322407905432,
  112.58728450981891,
  93.24629442734407
 ],
 "stdvValues": [
  49.440683387580016,
  44.18967192878258,
  41.84020143848352
 ],
 "objectIdField": "",
 "fields": [],
 "capabilities": "Image,Metadata,Mensuration",
 "defaultMosaicMethod": "Center",
 "allowedMosaicMethods": "",
 "sortField": "",
 "sortValue": null,
 "sortAscending": true,
 "mosaicOperator": "First",
 "defaultCompressionQuality": 75,
 "defaultResamplingMethod": "Bilinear",
 "maxImageHeight": 4100,
 "maxImageWidth": 15000,
 "allowRasterFunction": true,
 "rasterFunctionInfos": [
  {
   "name": "None",
   "description": "",
   "help": ""
  }
 ],
 "rasterTypeInfos": [
  {
   "name": "Raster Dataset",
   "description": "Supports all ArcGIS Raster Datasets",
   "help": ""
  }
 ],
 "mensurationCapabilities": "Basic",
 "hasHistograms": true,
 "hasColormap": false,
 "hasRasterAttributeTable": false,
 "minScale": 0,
 "maxScale": 0,
 "exportTilesAllowed": false,
 "supportsStatistics": false,
 "supportsAdvancedQueries": false,
 "editFieldsInfo": null,
 "ownershipBasedAccessControlForRasters": null,
 "allowComputeTiePoints": false,
 "useStandardizedQueries": true,
 "advancedQueryCapabilities": {
  "useStandardizedQueries": true,
  "supportsStatistics": false,
  "supportsOrderBy": false,
  "supportsDistinct": false,
  "supportsPagination": false
 },
 "spatialReference": {
  "wkid": 102719,
  "latestWkid": 2264
 }
}
