View In:
ArcGIS JavaScript
ArcGIS Online Map Viewer
ArcGIS Earth
ArcMap
View Footprint In:
ArcGIS Online Map Viewer
Service Description: Imagery/Aerial2019
Name: Imagery/Aerial2019
Description:
Single Fused Map Cache: false
Extent:
XMin: 1466994
YMin: 522850.5
XMax: 1615458.75
YMax: 645739.5
Spatial Reference: PROJCS["NAD_1983_North_Carolina",GEOGCS["GCS_NAD83_1986",DATUM["D_North_American_1983",SPHEROID["GRS_1980",6378137.0,298.257222101]],PRIMEM["Greenwich",0.0],UNIT["Degree",0.0174532925199433]],PROJECTION["Lambert_Conformal_Conic"],PARAMETER["false_easting",2000000.002616646],PARAMETER["false_northing",0.0],PARAMETER["central_meridian",-79.0],PARAMETER["standard_parallel_1",34.333333333333],PARAMETER["standard_parallel_2",36.166666666667],PARAMETER["latitude_of_origin",33.75],UNIT["US Survey Foot",0.3048006096012192]]
Initial Extent:
XMin: 1466994
YMin: 522850.5
XMax: 1615458.75
YMax: 645739.5
Spatial Reference: PROJCS["NAD_1983_North_Carolina",GEOGCS["GCS_NAD83_1986",DATUM["D_North_American_1983",SPHEROID["GRS_1980",6378137.0,298.257222101]],PRIMEM["Greenwich",0.0],UNIT["Degree",0.0174532925199433]],PROJECTION["Lambert_Conformal_Conic"],PARAMETER["false_easting",2000000.002616646],PARAMETER["false_northing",0.0],PARAMETER["central_meridian",-79.0],PARAMETER["standard_parallel_1",34.333333333333],PARAMETER["standard_parallel_2",36.166666666667],PARAMETER["latitude_of_origin",33.75],UNIT["US Survey Foot",0.3048006096012192]]
Full Extent:
XMin: 1466994
YMin: 522850.5
XMax: 1615458.75
YMax: 645739.5
Spatial Reference: PROJCS["NAD_1983_North_Carolina",GEOGCS["GCS_NAD83_1986",DATUM["D_North_American_1983",SPHEROID["GRS_1980",6378137.0,298.257222101]],PRIMEM["Greenwich",0.0],UNIT["Degree",0.0174532925199433]],PROJECTION["Lambert_Conformal_Conic"],PARAMETER["false_easting",2000000.002616646],PARAMETER["false_northing",0.0],PARAMETER["central_meridian",-79.0],PARAMETER["standard_parallel_1",34.333333333333],PARAMETER["standard_parallel_2",36.166666666667],PARAMETER["latitude_of_origin",33.75],UNIT["US Survey Foot",0.3048006096012192]]
Pixel Size X: 0.75
Pixel Size Y: 0.75
Band Count: 3
Pixel Type: U8
RasterFunction Infos: {"rasterFunctionInfos": [{
"name": "None",
"description": "",
"help": ""
}]}
Mensuration Capabilities: Basic
Has Histograms: true
Has Colormap: false
Has Multi Dimensions : false
Rendering Rule:
Min Scale: 0
Max Scale: 0
Copyright Text:
Service Data Type: esriImageServiceDataTypeRGB
Min Values: 12, 26, 27
Max Values: 255, 255, 255
Mean Values: 177.18874888634, 168.8261422935, 154.81837851597
Standard Deviation Values: 63.27529854981, 68.688001547732, 78.313691107356
Object ID Field:
Fields:
None
Default Mosaic Method: Center
Allowed Mosaic Methods:
SortField:
SortValue: null
Mosaic Operator: First
Default Compression Quality: 75
Default Resampling Method: Bilinear
Max Record Count: null
Max Image Height: 4100
Max Image Width: 15000
Max Download Image Count: null
Max Mosaic Image Count: null
Allow Raster Function: true
Allow Copy: true
Allow Analysis: true
Allow Compute TiePoints: false
Supports Statistics: false
Supports Advanced Queries: false
Use StandardizedQueries: true
Raster Type Infos:
Name: Raster Dataset
Description: Supports all ArcGIS Raster Datasets
Help:
Has Raster Attribute Table: false
Edit Fields Info: null
Ownership Based AccessControl For Rasters: null
Child Resources:
Info
Histograms
Statistics
Key Properties
Legend
Raster Function Infos
Supported Operations:
Export Image
Identify
Measure
Compute Histograms
Compute Statistics Histograms
Get Samples
Compute Class Statistics
Query Boundary
Compute Pixel Location
Compute Angles
Validate
Project