View In:
ArcGIS JavaScript
ArcGIS Online Map Viewer
ArcGIS Earth
ArcMap
View Footprint In:
ArcGIS Online Map Viewer
Service Description: Digital data set depicting Digital Orthophotos for Cabarrus County, NC.
Name: Imagery/Aerial2007
Description: Digital data set depicting Digital Orthophotos for Cabarrus County, NC.
Single Fused Map Cache: false
Extent:
XMin: 1466971.48195
YMin: 522838.8162500027
XMax: 1615162.3147499966
YMax: 645738.53605
Spatial Reference: 102719
(2264)
Initial Extent:
XMin: 1466971.48195
YMin: 522838.8162500027
XMax: 1615162.3147499966
YMax: 645738.53605
Spatial Reference: 102719
(2264)
Full Extent:
XMin: 1466971.48195
YMin: 522838.8162500027
XMax: 1615162.3147499966
YMax: 645738.53605
Spatial Reference: 102719
(2264)
Pixel Size X: 3.280299999999927
Pixel Size Y: 3.2802999999999276
Band Count: 3
Pixel Type: U8
RasterFunction Infos: {"rasterFunctionInfos": [{
"name": "None",
"description": "",
"help": ""
}]}
Mensuration Capabilities: Basic
Has Histograms: true
Has Colormap: false
Has Multi Dimensions : false
Rendering Rule:
Min Scale: 0
Max Scale: 0
Copyright Text:
Service Data Type: esriImageServiceDataTypeRGB
Min Values: 0, 0, 0
Max Values: 255, 255, 255
Mean Values: 83.07794421407574, 77.54151343011891, 62.343417029728464
Standard Deviation Values: 72.65642959371787, 66.31353982072336, 53.23496894378672
Object ID Field:
Fields:
None
Default Mosaic Method: Center
Allowed Mosaic Methods:
SortField:
SortValue: null
Mosaic Operator: First
Default Compression Quality: 75
Default Resampling Method: Bilinear
Max Record Count: null
Max Image Height: 4100
Max Image Width: 15000
Max Download Image Count: null
Max Mosaic Image Count: null
Allow Raster Function: true
Allow Copy: true
Allow Analysis: true
Allow Compute TiePoints: false
Supports Statistics: false
Supports Advanced Queries: false
Use StandardizedQueries: true
Raster Type Infos:
Name: Raster Dataset
Description: Supports all ArcGIS Raster Datasets
Help:
Has Raster Attribute Table: false
Edit Fields Info: null
Ownership Based AccessControl For Rasters: null
Child Resources:
Info
Histograms
Statistics
Key Properties
Legend
Raster Function Infos
Supported Operations:
Export Image
Identify
Measure
Compute Histograms
Compute Statistics Histograms
Get Samples
Compute Class Statistics
Query Boundary
Compute Pixel Location
Compute Angles
Validate
Project