View In:
ArcGIS JavaScript
ArcGIS Online Map Viewer
ArcGIS Earth
ArcMap
View Footprint In:
ArcGIS Online Map Viewer
Service Description: A digital image mosaic is a raster image of an aerial photograph that through a process of rectification has been transformed to a uniform scale and pixel resolution with a specified tolerance. Cabarrus County, NC image mosaics consist of a tiff file format, one file covers an area of 5,000' X 5,000'. Pixel size represents 1' on the ground and B/W images are 95 megabytes per tile map. No attributes available. Each tiff has a corresponding "TFW" file that contains geographic coordinate system information. These mosaic images were produced from an aerial photography flight covering Cabarrus County, North Carolina in 1968.
Name: Imagery/Aerial1968
Description: A digital image mosaic is a raster image of an aerial photograph that through a process of rectification has been transformed to a uniform scale and pixel resolution with a specified tolerance. Cabarrus County, NC image mosaics consist of a tiff file format, one file covers an area of 5,000' X 5,000'. Pixel size represents 1' on the ground and B/W images are 95 megabytes per tile map. No attributes available. Each tiff has a corresponding "TFW" file that contains geographic coordinate system information. These mosaic images were produced from an aerial photography flight covering Cabarrus County, North Carolina in 1968.
Single Fused Map Cache: false
Extent:
XMin: 1465000
YMin: 520000
XMax: 1620000
YMax: 650000
Spatial Reference: 102719
(2264)
Initial Extent:
XMin: 1465000
YMin: 520000
XMax: 1620000
YMax: 650000
Spatial Reference: 102719
(2264)
Full Extent:
XMin: 1465000
YMin: 520000
XMax: 1620000
YMax: 650000
Spatial Reference: 102719
(2264)
Pixel Size X: 1.0
Pixel Size Y: 1.0
Band Count: 1
Pixel Type: U8
RasterFunction Infos: {"rasterFunctionInfos": [{
"name": "None",
"description": "",
"help": ""
}]}
Mensuration Capabilities: Basic
Has Histograms: true
Has Colormap: false
Has Multi Dimensions : false
Rendering Rule:
Min Scale: 0
Max Scale: 0
Copyright Text:
Service Data Type: esriImageServiceDataTypeGeneric
Min Values: 30
Max Values: 225
Mean Values: 132.82565124709956
Standard Deviation Values: 30.500528442496616
Object ID Field:
Fields:
None
Default Mosaic Method: Center
Allowed Mosaic Methods:
SortField:
SortValue: null
Mosaic Operator: First
Default Compression Quality: 75
Default Resampling Method: Bilinear
Max Record Count: null
Max Image Height: 4100
Max Image Width: 15000
Max Download Image Count: null
Max Mosaic Image Count: null
Allow Raster Function: true
Allow Copy: true
Allow Analysis: true
Allow Compute TiePoints: false
Supports Statistics: false
Supports Advanced Queries: false
Use StandardizedQueries: true
Raster Type Infos:
Name: Raster Dataset
Description: Supports all ArcGIS Raster Datasets
Help:
Has Raster Attribute Table: false
Edit Fields Info: null
Ownership Based AccessControl For Rasters: null
Child Resources:
Info
Histograms
Statistics
Key Properties
Legend
Raster Function Infos
Supported Operations:
Export Image
Identify
Measure
Compute Histograms
Compute Statistics Histograms
Get Samples
Compute Class Statistics
Query Boundary
Compute Pixel Location
Compute Angles
Validate
Project