View In:
ArcGIS JavaScript
ArcGIS Online Map Viewer
ArcGIS Earth
ArcMap
View Footprint In:
ArcGIS Online Map Viewer
Service Description: A digital image mosaic is a raster image of an aerial photograph that through a process of rectification has been transformed to a uniform scale and pixel resolution with a specified tolerance.
Name: Imagery/Aerial1956
Description: A digital image mosaic is a raster image of an aerial photograph that through a process of rectification has been transformed to a uniform scale and pixel resolution with a specified tolerance.
Single Fused Map Cache: false
Extent:
XMin: 1465000
YMin: 520000
XMax: 1620000
YMax: 650000
Spatial Reference: 102719
(2264)
Initial Extent:
XMin: 1465000
YMin: 520000
XMax: 1620000
YMax: 650000
Spatial Reference: 102719
(2264)
Full Extent:
XMin: 1465000
YMin: 520000
XMax: 1620000
YMax: 650000
Spatial Reference: 102719
(2264)
Pixel Size X: 1.0
Pixel Size Y: 1.0
Band Count: 1
Pixel Type: U8
RasterFunction Infos: {"rasterFunctionInfos": [{
"name": "None",
"description": "",
"help": ""
}]}
Mensuration Capabilities: Basic
Has Histograms: true
Has Colormap: false
Has Multi Dimensions : false
Rendering Rule:
Min Scale: 250000
Max Scale: 1000
Copyright Text:
Service Data Type: esriImageServiceDataTypeGeneric
Min Values: 0
Max Values: 255
Mean Values: 139.41342662095238
Standard Deviation Values: 34.54812649011111
Object ID Field:
Fields:
None
Default Mosaic Method: Center
Allowed Mosaic Methods:
SortField:
SortValue: null
Mosaic Operator: First
Default Compression Quality: 75
Default Resampling Method: Bicubic
Max Record Count: null
Max Image Height: 4100
Max Image Width: 15000
Max Download Image Count: null
Max Mosaic Image Count: null
Allow Raster Function: true
Allow Copy: true
Allow Analysis: true
Allow Compute TiePoints: false
Supports Statistics: false
Supports Advanced Queries: false
Use StandardizedQueries: true
Raster Type Infos:
Name: Raster Dataset
Description: Supports all ArcGIS Raster Datasets
Help:
Has Raster Attribute Table: false
Edit Fields Info: null
Ownership Based AccessControl For Rasters: null
Child Resources:
Info
Histograms
Statistics
Key Properties
Legend
Raster Function Infos
Supported Operations:
Export Image
Identify
Measure
Compute Histograms
Compute Statistics Histograms
Get Samples
Compute Class Statistics
Query Boundary
Compute Pixel Location
Compute Angles
Validate
Project