{
 "currentVersion": 10.91,
 "cimVersion": "2.9.0",
 "serviceDescription": "",
 "mapName": "Basemap",
 "description": "",
 "copyrightText": "",
 "supportsDynamicLayers": true,
 "layers": [
  {
   "id": 0,
   "name": "blank",
   "parentLayerId": -1,
   "defaultVisibility": true,
   "subLayerIds": null,
   "minScale": 0,
   "maxScale": 0,
   "type": "Feature Layer",
   "geometryType": "esriGeometryPolygon",
   "supportsDynamicLegends": true
  }
 ],
 "tables": [],
 "spatialReference": {
  "wkid": 102100,
  "latestWkid": 3857,
  "xyTolerance": 0.001,
  "zTolerance": 0.001,
  "mTolerance": 0.001,
  "falseX": -20037700,
  "falseY": -30241100,
  "xyUnits": 10000,
  "falseZ": -100000,
  "zUnits": 10000,
  "falseM": -100000,
  "mUnits": 10000
 },
 "singleFusedMapCache": true,
 "tileInfo": {
  "rows": 256,
  "cols": 256,
  "dpi": 96,
  "format": "PNG",
  "compressionQuality": 0,
  "origin": {
   "x": -20037700,
   "y": 9.00689684374099E11
  },
  "spatialReference": {
   "wkid": 102100,
   "latestWkid": 3857,
   "xyTolerance": 0.001,
   "zTolerance": 0.001,
   "mTolerance": 0.001,
   "falseX": -20037700,
   "falseY": -30241100,
   "xyUnits": 10000,
   "falseZ": -100000,
   "zUnits": 10000,
   "falseM": -100000,
   "mUnits": 10000
  },
  "lods": [
   {
    "level": 0,
    "resolution": 33072.9828126323,
    "scale": 1.2500000000000001E8
   },
   {
    "level": 1,
    "resolution": 16536.49140631615,
    "scale": 6.250000000000001E7
   },
   {
    "level": 2,
    "resolution": 8268.245703158074,
    "scale": 3.1250000000000004E7
   },
   {
    "level": 3,
    "resolution": 4134.122851579037,
    "scale": 1.5625000000000002E7
   },
   {
    "level": 4,
    "resolution": 2067.0614257895186,
    "scale": 7812500.000000001
   },
   {
    "level": 5,
    "resolution": 1033.5307128947593,
    "scale": 3906250.0000000005
   },
   {
    "level": 6,
    "resolution": 516.7653564473796,
    "scale": 1953125.0000000002
   },
   {
    "level": 7,
    "resolution": 258.3826782236898,
    "scale": 976562.5000000001
   },
   {
    "level": 8,
    "resolution": 129.1913391118449,
    "scale": 488281.25000000006
   },
   {
    "level": 9,
    "resolution": 64.59566955592246,
    "scale": 244140.62500000003
   },
   {
    "level": 10,
    "resolution": 32.29783477796123,
    "scale": 122070.31250000001
   },
   {
    "level": 11,
    "resolution": 16.148917388980614,
    "scale": 61035.15625000001
   },
   {
    "level": 12,
    "resolution": 8.074458694490307,
    "scale": 30517.578125000004
   },
   {
    "level": 13,
    "resolution": 4.0372293472451535,
    "scale": 15258.789062500002
   },
   {
    "level": 14,
    "resolution": 2.0186146736225767,
    "scale": 7629.394531250001
   },
   {
    "level": 15,
    "resolution": 1.0093073368112884,
    "scale": 3814.6972656250005
   },
   {
    "level": 16,
    "resolution": 0.5046536684056442,
    "scale": 1907.3486328125002
   },
   {
    "level": 17,
    "resolution": 0.2523268342028221,
    "scale": 953.6743164062501
   },
   {
    "level": 18,
    "resolution": 0.12616341710141105,
    "scale": 476.83715820312506
   },
   {
    "level": 19,
    "resolution": 0.06308170855070552,
    "scale": 238.41857910156253
   },
   {
    "level": 20,
    "resolution": 0.03154085427535276,
    "scale": 119.20928955078126
   },
   {
    "level": 21,
    "resolution": 0.01577042713767638,
    "scale": 59.60464477539063
   },
   {
    "level": 22,
    "resolution": 0.00788521356883819,
    "scale": 29.802322387695316
   },
   {
    "level": 23,
    "resolution": 0.0039426067844064855,
    "scale": 14.9011611938
   },
   {
    "level": 24,
    "resolution": 0.0019713033922085345,
    "scale": 7.45058059692
   },
   {
    "level": 25,
    "resolution": 9.856516961042673E-4,
    "scale": 3.72529029846
   },
   {
    "level": 26,
    "resolution": 4.928258480521336E-4,
    "scale": 1.86264514923
   }
  ]
 },
 "storageInfo": {
  "storageFormat": "esriMapCacheStorageModeCompactV2",
  "packetSize": 128
 },
 "initialExtent": {
  "xmin": -8969025.007178187,
  "ymin": 4214795.807845003,
  "xmax": -8969024.01732181,
  "ymax": 4214796.697854997,
  "spatialReference": {
   "wkid": 102100,
   "latestWkid": 3857,
   "xyTolerance": 0.001,
   "zTolerance": 0.001,
   "mTolerance": 0.001,
   "falseX": -20037700,
   "falseY": -30241100,
   "xyUnits": 10000,
   "falseZ": -100000,
   "zUnits": 10000,
   "falseM": -100000,
   "mUnits": 10000
  }
 },
 "fullExtent": {
  "xmin": -8969024.8359,
  "ymin": 4214795.8483000025,
  "xmax": -8969024.1886,
  "ymax": 4214796.657399997,
  "spatialReference": {
   "wkid": 102100,
   "latestWkid": 3857,
   "xyTolerance": 0.001,
   "zTolerance": 0.001,
   "mTolerance": 0.001,
   "falseX": -20037700,
   "falseY": -30241100,
   "xyUnits": 10000,
   "falseZ": -100000,
   "zUnits": 10000,
   "falseM": -100000,
   "mUnits": 10000
  }
 },
 "datesInUnknownTimezone": false,
 "minScale": 1.2500000000000001E8,
 "maxScale": 1.86264514923,
 "units": "esriMeters",
 "supportedImageFormatTypes": "PNG32,PNG24,PNG,JPG,DIB,TIFF,EMF,PS,PDF,GIF,SVG,SVGZ,BMP",
 "documentInfo": {
  "Title": "Basemap",
  "Author": "",
  "Comments": "",
  "Subject": "",
  "Category": "",
  "AntialiasingMode": "None",
  "TextAntialiasingMode": "Force",
  "Version": "2.5.0",
  "Keywords": "basemap,blank"
 },
 "supportsQueryDomains": true,
 "capabilities": "Map",
 "supportedQueryFormats": "JSON, geoJSON, PBF",
 "exportTilesAllowed": false,
 "referenceScale": 0.0,
 "supportsDatumTransformation": true,
 "archivingInfo": {"supportsHistoricMoment": false},
 "supportsClipping": true,
 "supportsSpatialFilter": true,
 "supportsTimeRelation": true,
 "supportsQueryDataElements": true,
 "maxRecordCount": 2000,
 "maxImageHeight": 4096,
 "maxImageWidth": 4096,
 "supportedExtensions": "",
 "serviceItemId": "fc603b1a783a439db70a4b6f61199622"
}