{
 "currentVersion": 10.91,
 "serviceDescription": "Imagery/Aerial2023",
 "name": "Imagery/Aerial2023",
 "description": "",
 "extent": {
  "xmin": 1466994,
  "ymin": 522850.5,
  "xmax": 1615458.75,
  "ymax": 645739.5,
  "spatialReference": {
   "wkid": 102719,
   "latestWkid": 2264
  }
 },
 "initialExtent": {
  "xmin": 1466994,
  "ymin": 522850.5,
  "xmax": 1615458.75,
  "ymax": 645739.5,
  "spatialReference": {
   "wkid": 102719,
   "latestWkid": 2264
  }
 },
 "fullExtent": {
  "xmin": 1466994,
  "ymin": 522850.5,
  "xmax": 1615458.75,
  "ymax": 645739.5,
  "spatialReference": {
   "wkid": 102719,
   "latestWkid": 2264
  }
 },
 "hasMultidimensions": false,
 "pixelSizeX": 0.75,
 "pixelSizeY": 0.75,
 "datasetFormat": "MrSID",
 "uncompressedSize": 97304984868,
 "blockWidth": 1024,
 "blockHeight": 128,
 "compressionType": "Wavelet (MG3)",
 "bandNames": [
  "Band_1",
  "Band_2",
  "Band_3"
 ],
 "allowCopy": true,
 "allowAnalysis": true,
 "bandCount": 3,
 "pixelType": "U8",
 "minPixelSize": 0,
 "maxPixelSize": 0,
 "copyrightText": "",
 "serviceDataType": "esriImageServiceDataTypeProcessed",
 "serviceSourceType": "esriImageServiceSourceTypeDataset",
 "minValues": [
  62,
  57,
  24
 ],
 "maxValues": [
  255,
  255,
  255
 ],
 "meanValues": [
  175.06541937126,
  167.87450680921,
  148.33816978491
 ],
 "stdvValues": [
  63.200830398179,
  68.367122336214,
  82.946137116678
 ],
 "objectIdField": "",
 "fields": [],
 "capabilities": "Mensuration,Image,Metadata",
 "defaultMosaicMethod": "Center",
 "allowedMosaicMethods": "",
 "sortField": "",
 "sortValue": null,
 "sortAscending": true,
 "mosaicOperator": "First",
 "defaultCompressionQuality": 75,
 "defaultResamplingMethod": "Bilinear",
 "maxImageHeight": 4100,
 "maxImageWidth": 15000,
 "allowRasterFunction": true,
 "rasterFunctionInfos": [
  {
   "name": "None",
   "description": "",
   "help": ""
  }
 ],
 "rasterTypeInfos": [
  {
   "name": "Raster Dataset",
   "description": "Supports all ArcGIS Raster Datasets",
   "help": ""
  }
 ],
 "mensurationCapabilities": "Basic",
 "hasHistograms": true,
 "hasColormap": false,
 "hasRasterAttributeTable": false,
 "minScale": 0,
 "maxScale": 0,
 "exportTilesAllowed": false,
 "supportsStatistics": false,
 "supportsAdvancedQueries": false,
 "editFieldsInfo": null,
 "ownershipBasedAccessControlForRasters": null,
 "allowComputeTiePoints": false,
 "useStandardizedQueries": true,
 "advancedQueryCapabilities": {
  "useStandardizedQueries": true,
  "supportsStatistics": false,
  "supportsOrderBy": false,
  "supportsDistinct": false,
  "supportsPagination": false
 },
 "spatialReference": {
  "wkid": 102719,
  "latestWkid": 2264
 }
}
