{
 "currentVersion": 10.91,
 "serviceDescription": "A digital image mosaic is a raster image of an aerial photograph that through a process of rectification has been transformed to a uniform scale and pixel resolution with a specified tolerance. Cabarrus County, NC image mosaics consist of a tiff file format, one file covers an area of 5,000' X 5,000'. Pixel size represents 1' on the ground and B/W images are 95 megabytes per tile map. No attributes available. Each tiff has a corresponding \"TFW\" file that contains geographic coordinate system information. These mosaic images were produced from an aerial photography flight covering Cabarrus County, North Carolina in 1986.",
 "name": "Imagery/Aerial1986",
 "description": "A digital image mosaic is a raster image of an aerial photograph that through a process of rectification has been transformed to a uniform scale and pixel resolution with a specified tolerance. Cabarrus County, NC image mosaics consist of a tiff file format, one file covers an area of 5,000' X 5,000'. Pixel size represents 1' on the ground and B/W images are 95 megabytes per tile map. No attributes available. Each tiff has a corresponding \"TFW\" file that contains geographic coordinate system information. These mosaic images were produced from an aerial photography flight covering Cabarrus County, North Carolina in 1986.",
 "extent": {
  "xmin": 1465000,
  "ymin": 535000,
  "xmax": 1530000,
  "ymax": 645000,
  "spatialReference": {
   "wkid": 102719,
   "latestWkid": 2264
  }
 },
 "initialExtent": {
  "xmin": 1465000,
  "ymin": 535000,
  "xmax": 1530000,
  "ymax": 645000,
  "spatialReference": {
   "wkid": 102719,
   "latestWkid": 2264
  }
 },
 "fullExtent": {
  "xmin": 1465000,
  "ymin": 535000,
  "xmax": 1530000,
  "ymax": 645000,
  "spatialReference": {
   "wkid": 102719,
   "latestWkid": 2264
  }
 },
 "hasMultidimensions": false,
 "pixelSizeX": 1,
 "pixelSizeY": 1,
 "datasetFormat": "SDR",
 "uncompressedSize": 7150000000,
 "blockWidth": 128,
 "blockHeight": 128,
 "compressionType": "LZ77",
 "bandNames": [
  "Band_1"
 ],
 "allowCopy": true,
 "allowAnalysis": true,
 "bandCount": 1,
 "pixelType": "U8",
 "minPixelSize": 0,
 "maxPixelSize": 0,
 "copyrightText": "",
 "serviceDataType": "esriImageServiceDataTypeGeneric",
 "serviceSourceType": "esriImageServiceSourceTypeDataset",
 "minValues": [
  27
 ],
 "maxValues": [
  253
 ],
 "meanValues": [
  145.7597424925
 ],
 "stdvValues": [
  47.95658861744137
 ],
 "objectIdField": "",
 "fields": [],
 "capabilities": "Image,Metadata,Mensuration",
 "defaultMosaicMethod": "Center",
 "allowedMosaicMethods": "",
 "sortField": "",
 "sortValue": null,
 "sortAscending": true,
 "mosaicOperator": "First",
 "defaultCompressionQuality": 75,
 "defaultResamplingMethod": "Bilinear",
 "maxImageHeight": 4100,
 "maxImageWidth": 15000,
 "allowRasterFunction": true,
 "rasterFunctionInfos": [
  {
   "name": "None",
   "description": "",
   "help": ""
  }
 ],
 "rasterTypeInfos": [
  {
   "name": "Raster Dataset",
   "description": "Supports all ArcGIS Raster Datasets",
   "help": ""
  }
 ],
 "mensurationCapabilities": "Basic",
 "hasHistograms": true,
 "hasColormap": false,
 "hasRasterAttributeTable": false,
 "minScale": 0,
 "maxScale": 0,
 "exportTilesAllowed": false,
 "supportsStatistics": false,
 "supportsAdvancedQueries": false,
 "editFieldsInfo": null,
 "ownershipBasedAccessControlForRasters": null,
 "allowComputeTiePoints": false,
 "useStandardizedQueries": true,
 "advancedQueryCapabilities": {
  "useStandardizedQueries": true,
  "supportsStatistics": false,
  "supportsOrderBy": false,
  "supportsDistinct": false,
  "supportsPagination": false
 },
 "spatialReference": {
  "wkid": 102719,
  "latestWkid": 2264
 }
}
